BEGIN:VCALENDAR
VERSION:2.0
PRODID:-//Tukios.com/
BEGIN:VEVENT
UID:75b50cfa-6ade-4c5b-883c-8da4efab8a65@www.hartsellfuneralhomes.com
DTSTAMP:20260423T175623Z
DTSTART:20260508T170000Z
DTEND:20260508T180000Z
SUMMARY:Celebration of Life
DESCRIPTION:
URL:https://www.hartsellfuneralhomes.com/obituaries/lovelace-pugh
LOCATION:Kellswater Bridge Clubhouse 3033 Keady Mill Loop  Kannapolis NC 
	28081
GEO:35.4602272;-80.6578227
END:VEVENT
END:VCALENDAR