BEGIN:VCALENDAR
VERSION:2.0
PRODID:-//Tukios.com/
BEGIN:VEVENT
UID:3e082226-14e5-4e6d-9036-499b4adda555@www.hartsellfuneralhomes.com
DTSTAMP:20260425T005848Z
DTSTART:20260501T160000Z
DTEND:20260501T170000Z
SUMMARY:Funeral Service
DESCRIPTION:
URL:https://www.hartsellfuneralhomes.com/obituaries/katie-johnson
LOCATION:Hartsell Funeral Home of Harrisburg 12115 University City Blvd  
	Harrisburg NC 28075
GEO:35.316867;-80.68041
END:VEVENT
END:VCALENDAR