BEGIN:VCALENDAR
VERSION:2.0
PRODID:-//Tukios.com/
BEGIN:VEVENT
UID:cb1da516-0424-4faf-8269-56f1f6dee1d2@www.hartsellfuneralhomes.com
DTSTAMP:20260425T005904Z
DTSTART:20260501T143000Z
DTEND:20260501T154500Z
SUMMARY:Visitation
DESCRIPTION:
URL:https://www.hartsellfuneralhomes.com/obituaries/katie-johnson
LOCATION:Hartsell Funeral Home of Harrisburg 12115 University City Blvd  
	Harrisburg NC 28075
GEO:35.316867;-80.68041
END:VEVENT
END:VCALENDAR