BEGIN:VCALENDAR
VERSION:2.0
PRODID:-//Tukios.com/
BEGIN:VEVENT
UID:cec3e882-ad33-46ee-9adb-10d9d90bcac8@www.hartsellfuneralhomes.com
DTSTAMP:20260424T195104Z
DTSTART:20260428T150000Z
DTEND:20260428T160000Z
SUMMARY:Funeral Service
DESCRIPTION:
URL:https://www.hartsellfuneralhomes.com/obituaries/bonnie-mullis
LOCATION:Sunset Memory Gardens 8901 Lawyers Rd  Mint Hill NC 28227
GEO:35.1898448;-80.6927428
END:VEVENT
END:VCALENDAR